BEGIN:VCALENDAR
VERSION:2.0
PRODID:-//Illinois Conference, United Church of Christ - ECPv3.11.2//NONSGML v1.0//EN
CALSCALE:GREGORIAN
METHOD:PUBLISH
X-WR-CALNAME:Illinois Conference, United Church of Christ
X-ORIGINAL-URL:https://foxvalley.ilucc.org
X-WR-CALDESC:Events for Illinois Conference, United Church of Christ
BEGIN:VEVENT
DTSTART:20220514T150000Z
DTEND:20220514T180000Z
DTSTAMP:20260424T184013Z
CREATED:20220217T224926Z
LAST-MODIFIED:20220217T224926Z
UID:6403-1652540400-1652551200@foxvalley.ilucc.org
SUMMARY:Outdoor Ministries Committee Mtg
DESCRIPTION:The Illinois Conference Outdoor Ministries Committee will meet at 9:00 a.m. via Zoom. Information for accessing the Zoom meeting will be sent directly to committee members along with other documents needed for the meeting.
URL:https://foxvalley.ilucc.org/event/outdoor-ministries-committee-mtg-4/
CATEGORIES:all
END:VEVENT
BEGIN:VEVENT
DTSTART:20220514T210000Z
DTEND:20220514T223000Z
DTSTAMP:20260424T184013Z
CREATED:20220329T193555Z
LAST-MODIFIED:20220329T193555Z
UID:6494-1652562000-1652567400@foxvalley.ilucc.org
SUMMARY:Stewardship Committee Mtg
DESCRIPTION:The Illinois Conference Stewardship Committee will meet at 3:00 p.m. via Zoom. Information for accessing the Zoom meeting will be sent directly to committee members along with other documents needed for the meeting.
URL:https://foxvalley.ilucc.org/event/stewardship-committee-mtg-2/
CATEGORIES:all
END:VEVENT
END:VCALENDAR