BEGIN:VCALENDAR
VERSION:2.0
PRODID:-//Illinois Conference, United Church of Christ - ECPv3.11.2//NONSGML v1.0//EN
CALSCALE:GREGORIAN
METHOD:PUBLISH
X-WR-CALNAME:Illinois Conference, United Church of Christ
X-ORIGINAL-URL:https://foxvalley.ilucc.org
X-WR-CALDESC:Events for Illinois Conference, United Church of Christ
BEGIN:VEVENT
DTSTART;VALUE=DATE:20250619
DTEND;VALUE=DATE:20250620
DTSTAMP:20260420T133529Z
CREATED:20250617T132236Z
LAST-MODIFIED:20250617T133204Z
UID:8054-1750312800-1750399199@foxvalley.ilucc.org
SUMMARY:Office Closed
DESCRIPTION:The Illinois Conference office will be closed on Thursday\, June 19th in observance of Juneteenth.
URL:https://foxvalley.ilucc.org/event/office-closed-20/
CATEGORIES:all
END:VEVENT
END:VCALENDAR